BEGIN:VCALENDAR
VERSION:2.0
CALSCALE:GREGORIAN
PRODID:-//Diputació de Barcelona//DibaCMS//EN
BEGIN:VEVENT
UID:6231
DTSTAMP:20260422T185845
DTSTART:20191201T113000
DTEND:20191201T113000
SUMMARY:Ballada de Sardanes amb la Cobla Osona
LOCATION:
METHOD:PUBLISH
X-WR-CALNAME:ajuntament@santfost.cat
X-WR-TIMEZONE:Europe/Madrid
DESCRIPTION:
URI:https://www.santfost.cat/actualitat/agenda/ballada-de-sardanes-amb-la-cobla-osona.html
CLASS:PUBLIC
END:VEVENT
END:VCALENDAR
