BEGIN:VCALENDAR
VERSION:2.0
CALSCALE:GREGORIAN
PRODID:-//Diputació de Barcelona//DibaCMS//EN
BEGIN:VEVENT
UID:6232
DTSTAMP:20260422T142046
DTSTART:20191209T000000
DTEND:20191209T000000
SUMMARY:Taller d'autoprotecció i suport vital bàsic i DEA
LOCATION:
METHOD:PUBLISH
X-WR-CALNAME:ajuntament@santfost.cat
X-WR-TIMEZONE:Europe/Madrid
DESCRIPTION:
URI:https://www.santfost.cat/actualitat/agenda/taller-dautoproteccio-i-suport-vital-basic-i-dea.html
CLASS:PUBLIC
END:VEVENT
END:VCALENDAR
