BEGIN:VCALENDAR
VERSION:2.0
CALSCALE:GREGORIAN
PRODID:-//Diputació de Barcelona//DibaCMS//EN
BEGIN:VEVENT
UID:6233
DTSTAMP:20260420T160145
DTSTART:20191212T193000
DTEND:20191212T193000
SUMMARY:Presentació de l'Entitat de Senderisme, Natura i Patrimoni de Sant Fost
LOCATION:
METHOD:PUBLISH
X-WR-CALNAME:ajuntament@santfost.cat
X-WR-TIMEZONE:Europe/Madrid
DESCRIPTION:
URI:https://www.santfost.cat/actualitat/agenda/presentacio-de-lentitat-de-senderisme-natura-i-patrimoni-de-sant-fost.html
CLASS:PUBLIC
END:VEVENT
END:VCALENDAR
