BEGIN:VCALENDAR
VERSION:2.0
CALSCALE:GREGORIAN
PRODID:-//Diputació de Barcelona//DibaCMS//EN
BEGIN:VEVENT
UID:6234
DTSTAMP:20260422T184112
DTSTART:20191212T173000
DTEND:20191212T173000
SUMMARY:Xocolatada Pre-Nadal
LOCATION:
METHOD:PUBLISH
X-WR-CALNAME:ajuntament@santfost.cat
X-WR-TIMEZONE:Europe/Madrid
DESCRIPTION:
URI:https://www.santfost.cat/actualitat/agenda/xocolatada-pre-nadal.html
CLASS:PUBLIC
END:VEVENT
END:VCALENDAR
