BEGIN:VCALENDAR
VERSION:2.0
CALSCALE:GREGORIAN
PRODID:-//Diputació de Barcelona//DibaCMS//EN
BEGIN:VEVENT
UID:6235
DTSTAMP:20260422T153641
DTSTART:20191213T000000
DTEND:20191213T000000
SUMMARY:Trobada d'autocaravanes
LOCATION:
METHOD:PUBLISH
X-WR-CALNAME:ajuntament@santfost.cat
X-WR-TIMEZONE:Europe/Madrid
DESCRIPTION:
URI:https://www.santfost.cat/actualitat/agenda/6235-trobada-dautocaravanes.html
CLASS:PUBLIC
END:VEVENT
END:VCALENDAR
