BEGIN:VCALENDAR
VERSION:2.0
CALSCALE:GREGORIAN
PRODID:-//Diputació de Barcelona//DibaCMS//EN
BEGIN:VEVENT
UID:6237
DTSTAMP:20260422T131023
DTSTART:20191214T170000
DTEND:20191214T170000
SUMMARY:Mostra de teatre: 'No se muere ni a tiros'
LOCATION:
METHOD:PUBLISH
X-WR-CALNAME:ajuntament@santfost.cat
X-WR-TIMEZONE:Europe/Madrid
DESCRIPTION:
URI:https://www.santfost.cat/actualitat/agenda/mostra-de-teatre-no-se-muere-ni-a-tiros.html
CLASS:PUBLIC
END:VEVENT
END:VCALENDAR
