BEGIN:VCALENDAR
VERSION:2.0
CALSCALE:GREGORIAN
PRODID:-//Diputació de Barcelona//DibaCMS//EN
BEGIN:VEVENT
UID:6238
DTSTAMP:20260422T153832
DTSTART:20191214T000000
DTEND:20191214T000000
SUMMARY:Partit de lliga Elecman Tècnic- La Cúpula vs Quatre Camins
LOCATION:
METHOD:PUBLISH
X-WR-CALNAME:ajuntament@santfost.cat
X-WR-TIMEZONE:Europe/Madrid
DESCRIPTION:
URI:https://www.santfost.cat/actualitat/agenda/partit-de-lliga-elecman-tecnic-la-cupula-vs-quatre-camins.html
CLASS:PUBLIC
END:VEVENT
END:VCALENDAR
