BEGIN:VCALENDAR
VERSION:2.0
CALSCALE:GREGORIAN
PRODID:-//Diputació de Barcelona//DibaCMS//EN
BEGIN:VEVENT
UID:6239
DTSTAMP:20260422T153318
DTSTART:20191214T110000
DTEND:20191214T110000
SUMMARY:Taller de cuina: cuina de Nadal
LOCATION:
METHOD:PUBLISH
X-WR-CALNAME:ajuntament@santfost.cat
X-WR-TIMEZONE:Europe/Madrid
DESCRIPTION:
URI:https://www.santfost.cat/actualitat/agenda/6239-taller-de-cuina-cuina-de-nadal.html
CLASS:PUBLIC
END:VEVENT
END:VCALENDAR
