BEGIN:VCALENDAR
VERSION:2.0
CALSCALE:GREGORIAN
PRODID:-//Diputació de Barcelona//DibaCMS//EN
BEGIN:VEVENT
UID:6260
DTSTAMP:20260422T153658
DTSTART:20200105T173000
DTEND:20200105T173000
SUMMARY:Cavalcada de Reis 2020
LOCATION:
METHOD:PUBLISH
X-WR-CALNAME:ajuntament@santfost.cat
X-WR-TIMEZONE:Europe/Madrid
DESCRIPTION:
URI:https://www.santfost.cat/actualitat/agenda/cavalcada-de-reis-2020.html
CLASS:PUBLIC
END:VEVENT
END:VCALENDAR
