BEGIN:VCALENDAR
VERSION:2.0
CALSCALE:GREGORIAN
PRODID:-//Diputació de Barcelona//DibaCMS//EN
BEGIN:VEVENT
UID:6263
DTSTAMP:20260422T102711
DTSTART:20200124T193000
DTEND:20200124T193000
SUMMARY:Taller per a pares i mares d'adolescents
LOCATION:
METHOD:PUBLISH
X-WR-CALNAME:ajuntament@santfost.cat
X-WR-TIMEZONE:Europe/Madrid
DESCRIPTION:
URI:https://www.santfost.cat/actualitat/agenda/taller-per-a-pares-i-mares-dadolescents.html
CLASS:PUBLIC
END:VEVENT
END:VCALENDAR
