BEGIN:VCALENDAR
VERSION:2.0
CALSCALE:GREGORIAN
PRODID:-//Diputació de Barcelona//DibaCMS//EN
BEGIN:VEVENT
UID:6264
DTSTAMP:20260422T200156
DTSTART:20200125T180000
DTEND:20200125T180000
SUMMARY:Ball del jubilat
LOCATION:
METHOD:PUBLISH
X-WR-CALNAME:ajuntament@santfost.cat
X-WR-TIMEZONE:Europe/Madrid
DESCRIPTION:
URI:https://www.santfost.cat/actualitat/agenda/6264-ball-del-jubilat.html
CLASS:PUBLIC
END:VEVENT
END:VCALENDAR
