BEGIN:VCALENDAR
VERSION:2.0
CALSCALE:GREGORIAN
PRODID:-//Diputació de Barcelona//DibaCMS//EN
BEGIN:VEVENT
UID:6265
DTSTAMP:20260422T154825
DTSTART:20200126T180000
DTEND:20200126T180000
SUMMARY:Obra de teatre: Girafes
LOCATION:
METHOD:PUBLISH
X-WR-CALNAME:ajuntament@santfost.cat
X-WR-TIMEZONE:Europe/Madrid
DESCRIPTION:
URI:https://www.santfost.cat/actualitat/agenda/obra-de-teatre-girafes.html
CLASS:PUBLIC
END:VEVENT
END:VCALENDAR
