BEGIN:VCALENDAR
VERSION:2.0
CALSCALE:GREGORIAN
PRODID:-//Diputació de Barcelona//DibaCMS//EN
BEGIN:VEVENT
UID:6266
DTSTAMP:20260420T160525
DTSTART:20200126T120000
DTEND:20200126T120000
SUMMARY:Homenatge a les víctimes republicanes de la Guerra Civil a Catalunya
LOCATION:
METHOD:PUBLISH
X-WR-CALNAME:ajuntament@santfost.cat
X-WR-TIMEZONE:Europe/Madrid
DESCRIPTION:
URI:https://www.santfost.cat/actualitat/agenda/homenatge-a-les-victimes-republicanes-de-la-guerra-civil-a-catalunya.html
CLASS:PUBLIC
END:VEVENT
END:VCALENDAR
