BEGIN:VCALENDAR
VERSION:2.0
CALSCALE:GREGORIAN
PRODID:-//Diputació de Barcelona//DibaCMS//EN
BEGIN:VEVENT
UID:6268
DTSTAMP:20260420T151713
DTSTART:20200131T183000
DTEND:20200131T183000
SUMMARY:Sessió de cine 2/2: Bafta Short Film Festival 2019
LOCATION:
METHOD:PUBLISH
X-WR-CALNAME:ajuntament@santfost.cat
X-WR-TIMEZONE:Europe/Madrid
DESCRIPTION:
URI:https://www.santfost.cat/actualitat/agenda/sessio-de-cine-22-bafta-short-film-festival-2019.html
CLASS:PUBLIC
END:VEVENT
END:VCALENDAR
