BEGIN:VCALENDAR
VERSION:2.0
CALSCALE:GREGORIAN
PRODID:-//Diputació de Barcelona//DibaCMS//EN
BEGIN:VEVENT
UID:6274
DTSTAMP:20260422T224924
DTSTART:20200217T170000
DTEND:20200217T170000
SUMMARY:Estimulació musical per a infants
LOCATION:
METHOD:PUBLISH
X-WR-CALNAME:ajuntament@santfost.cat
X-WR-TIMEZONE:Europe/Madrid
DESCRIPTION:
URI:https://www.santfost.cat/actualitat/agenda/estimulacio-musical-per-a-infants.html
CLASS:PUBLIC
END:VEVENT
END:VCALENDAR
