BEGIN:VCALENDAR
VERSION:2.0
CALSCALE:GREGORIAN
PRODID:-//Diputació de Barcelona//DibaCMS//EN
BEGIN:VEVENT
UID:6275
DTSTAMP:20260422T190250
DTSTART:20200218T180000
DTEND:20200218T180000
SUMMARY:Taller de màscares i barrets infantil
LOCATION:
METHOD:PUBLISH
X-WR-CALNAME:ajuntament@santfost.cat
X-WR-TIMEZONE:Europe/Madrid
DESCRIPTION:
URI:https://www.santfost.cat/actualitat/agenda/taller-de-mascares-i-barrets-infantil.html
CLASS:PUBLIC
END:VEVENT
END:VCALENDAR
