BEGIN:VCALENDAR
VERSION:2.0
CALSCALE:GREGORIAN
PRODID:-//Diputació de Barcelona//DibaCMS//EN
BEGIN:VEVENT
UID:6276
DTSTAMP:20260420T160123
DTSTART:20200220T193000
DTEND:20200220T193000
SUMMARY:Taller per a pares i mares d'adolescents: "Consum d'alcohol i altres drogues en l'adolescència"
LOCATION:
METHOD:PUBLISH
X-WR-CALNAME:ajuntament@santfost.cat
X-WR-TIMEZONE:Europe/Madrid
DESCRIPTION:
URI:https://www.santfost.cat/actualitat/agenda/taller-per-a-pares-i-mares-dadolescents-consum-dalcohol-i-altres-drogues-en-ladolescencia.html
CLASS:PUBLIC
END:VEVENT
END:VCALENDAR
