BEGIN:VCALENDAR
VERSION:2.0
CALSCALE:GREGORIAN
PRODID:-//Diputació de Barcelona//DibaCMS//EN
BEGIN:VEVENT
UID:6283
DTSTAMP:20260422T200001
DTSTART:20200301T000000
DTEND:20200301T000000
SUMMARY:3r Concurs fotogràfic Vinstagram Do Alella
LOCATION:
METHOD:PUBLISH
X-WR-CALNAME:ajuntament@santfost.cat
X-WR-TIMEZONE:Europe/Madrid
DESCRIPTION:
URI:https://www.santfost.cat/actualitat/agenda/3r-concurs-fotografic-vinstagram-do-alella.html
CLASS:PUBLIC
END:VEVENT
END:VCALENDAR
