BEGIN:VCALENDAR
VERSION:2.0
CALSCALE:GREGORIAN
PRODID:-//Diputació de Barcelona//DibaCMS//EN
BEGIN:VEVENT
UID:6284
DTSTAMP:20260422T195726
DTSTART:20200302T000000
DTEND:20200302T000000
SUMMARY:IX Concurs de dibuix de punts de llibre 2020
LOCATION:
METHOD:PUBLISH
X-WR-CALNAME:ajuntament@santfost.cat
X-WR-TIMEZONE:Europe/Madrid
DESCRIPTION:
URI:https://www.santfost.cat/actualitat/agenda/ix-concurs-de-dibuix-de-punts-de-llibre-2020.html
CLASS:PUBLIC
END:VEVENT
END:VCALENDAR
