BEGIN:VCALENDAR
VERSION:2.0
CALSCALE:GREGORIAN
PRODID:-//Diputació de Barcelona//DibaCMS//EN
BEGIN:VEVENT
UID:6285
DTSTAMP:20260422T132117
DTSTART:20200305T183000
DTEND:20200305T183000
SUMMARY:Club de lectura 'Les dones de la Principal', de Lluís Llach
LOCATION:
METHOD:PUBLISH
X-WR-CALNAME:ajuntament@santfost.cat
X-WR-TIMEZONE:Europe/Madrid
DESCRIPTION:
URI:https://www.santfost.cat/actualitat/agenda/club-de-lectura-les-dones-de-la-principal-de-lluis-llach.html
CLASS:PUBLIC
END:VEVENT
END:VCALENDAR
