BEGIN:VCALENDAR
VERSION:2.0
CALSCALE:GREGORIAN
PRODID:-//Diputació de Barcelona//DibaCMS//EN
BEGIN:VEVENT
UID:6290
DTSTAMP:20260420T112137
DTSTART:20200312T193000
DTEND:20200312T193000
SUMMARY:Taller per a pares i mares adolescents: depressió i ansietat en l'àmbit familiar i personal
LOCATION:
METHOD:PUBLISH
X-WR-CALNAME:ajuntament@santfost.cat
X-WR-TIMEZONE:Europe/Madrid
DESCRIPTION:
URI:https://www.santfost.cat/actualitat/agenda/taller-per-a-pares-i-mares-adolescents-depressio-i-ansietat-en-lambit-familiar-i-personal.html
CLASS:PUBLIC
END:VEVENT
END:VCALENDAR
