BEGIN:VCALENDAR
VERSION:2.0
CALSCALE:GREGORIAN
PRODID:-//Diputació de Barcelona//DibaCMS//EN
BEGIN:VEVENT
UID:6291
DTSTAMP:20260422T104346
DTSTART:20200530T180000
DTEND:20200530T180000
SUMMARY:Dissabte 30 de maig: videoconferència 'Depressió i ansietat, últims avenços'
LOCATION:
METHOD:PUBLISH
X-WR-CALNAME:ajuntament@santfost.cat
X-WR-TIMEZONE:Europe/Madrid
DESCRIPTION:
URI:https://www.santfost.cat/actualitat/agenda/dissabte-30-de-maig-videoconferencia-depressio-i-ansietat-ultims-avencos.html
CLASS:PUBLIC
END:VEVENT
END:VCALENDAR
