BEGIN:VCALENDAR
VERSION:2.0
CALSCALE:GREGORIAN
PRODID:-//Diputació de Barcelona//DibaCMS//EN
BEGIN:VEVENT
UID:6292
DTSTAMP:20260422T171602
DTSTART:20200702T200000
DTEND:20200702T200000
SUMMARY:Videoconferència 'COVID19, la pandèmia emocional'
LOCATION:
METHOD:PUBLISH
X-WR-CALNAME:ajuntament@santfost.cat
X-WR-TIMEZONE:Europe/Madrid
DESCRIPTION:
URI:https://www.santfost.cat/actualitat/agenda/videoconferencia-covid19-la-pandemia-emocional.html
CLASS:PUBLIC
END:VEVENT
END:VCALENDAR
