BEGIN:VCALENDAR
VERSION:2.0
CALSCALE:GREGORIAN
PRODID:-//Diputació de Barcelona//DibaCMS//EN
BEGIN:VEVENT
UID:6295
DTSTAMP:20260422T153624
DTSTART:20200716T000000
DTEND:20200716T000000
SUMMARY:Formació: Com prevenir la Covid-19 en establiments d'alimentació i restaurants
LOCATION:
METHOD:PUBLISH
X-WR-CALNAME:ajuntament@santfost.cat
X-WR-TIMEZONE:Europe/Madrid
DESCRIPTION:
URI:https://www.santfost.cat/actualitat/agenda/6295-formacio-com-prevenir-la-covid-19-en-establiments-dalimentacio-i-restaurants.html
CLASS:PUBLIC
END:VEVENT
END:VCALENDAR
