BEGIN:VCALENDAR
VERSION:2.0
CALSCALE:GREGORIAN
PRODID:-//Diputació de Barcelona//DibaCMS//EN
BEGIN:VEVENT
UID:6296
DTSTAMP:20260422T154805
DTSTART:20200716T200000
DTEND:20200716T200000
SUMMARY:Videoconferència: 'Vida afectiva, sexualitat, confinament...i més'
LOCATION:
METHOD:PUBLISH
X-WR-CALNAME:ajuntament@santfost.cat
X-WR-TIMEZONE:Europe/Madrid
DESCRIPTION:
URI:https://www.santfost.cat/actualitat/agenda/videoconferencia-vida-afectiva-sexualitat-confinamenti-mes.html
CLASS:PUBLIC
END:VEVENT
END:VCALENDAR
