BEGIN:VCALENDAR
VERSION:2.0
CALSCALE:GREGORIAN
PRODID:-//Diputació de Barcelona//DibaCMS//EN
BEGIN:VEVENT
UID:6297
DTSTAMP:20260422T154535
DTSTART:20200717T000000
DTEND:20200717T000000
SUMMARY:Sessió d'auto DJ
LOCATION:
METHOD:PUBLISH
X-WR-CALNAME:ajuntament@santfost.cat
X-WR-TIMEZONE:Europe/Madrid
DESCRIPTION:
URI:https://www.santfost.cat/actualitat/agenda/sessio-dauto-dj.html
CLASS:PUBLIC
END:VEVENT
END:VCALENDAR
