BEGIN:VCALENDAR
VERSION:2.0
CALSCALE:GREGORIAN
PRODID:-//Diputació de Barcelona//DibaCMS//EN
BEGIN:VEVENT
UID:6299
DTSTAMP:20260422T171529
DTSTART:20200722T000000
DTEND:20200722T000000
SUMMARY:Donació de sang
LOCATION:
METHOD:PUBLISH
X-WR-CALNAME:ajuntament@santfost.cat
X-WR-TIMEZONE:Europe/Madrid
DESCRIPTION:
URI:https://www.santfost.cat/actualitat/agenda/6299-donacio-de-sang.html
CLASS:PUBLIC
END:VEVENT
END:VCALENDAR
