BEGIN:VCALENDAR
VERSION:2.0
CALSCALE:GREGORIAN
PRODID:-//Diputació de Barcelona//DibaCMS//EN
BEGIN:VEVENT
UID:6300
DTSTAMP:20260420T161423
DTSTART:20200723T000000
DTEND:20200723T000000
SUMMARY:Dijous 23 de juliol: Diada de Sant Jordi
LOCATION:
METHOD:PUBLISH
X-WR-CALNAME:ajuntament@santfost.cat
X-WR-TIMEZONE:Europe/Madrid
DESCRIPTION:
URI:https://www.santfost.cat/actualitat/agenda/dijous-23-de-juliol-diada-de-sant-jordi.html
CLASS:PUBLIC
END:VEVENT
END:VCALENDAR
