BEGIN:VCALENDAR
VERSION:2.0
CALSCALE:GREGORIAN
PRODID:-//Diputació de Barcelona//DibaCMS//EN
BEGIN:VEVENT
UID:6302
DTSTAMP:20260422T114621
DTSTART:20200724T223000
DTEND:20200724T223000
SUMMARY:Sant Fost de llum
LOCATION:
METHOD:PUBLISH
X-WR-CALNAME:ajuntament@santfost.cat
X-WR-TIMEZONE:Europe/Madrid
DESCRIPTION:
URI:https://www.santfost.cat/actualitat/agenda/sant-fost-de-llum.html
CLASS:PUBLIC
END:VEVENT
END:VCALENDAR
