BEGIN:VCALENDAR
VERSION:2.0
CALSCALE:GREGORIAN
PRODID:-//Diputació de Barcelona//DibaCMS//EN
BEGIN:VEVENT
UID:6305
DTSTAMP:20260420T162440
DTSTART:20200725T223000
DTEND:20200725T223000
SUMMARY:Sessió automonòleg
LOCATION:
METHOD:PUBLISH
X-WR-CALNAME:ajuntament@santfost.cat
X-WR-TIMEZONE:Europe/Madrid
DESCRIPTION:
URI:https://www.santfost.cat/actualitat/agenda/sessio-automonoleg.html
CLASS:PUBLIC
END:VEVENT
END:VCALENDAR
