BEGIN:VCALENDAR
VERSION:2.0
CALSCALE:GREGORIAN
PRODID:-//Diputació de Barcelona//DibaCMS//EN
BEGIN:VEVENT
UID:6308
DTSTAMP:20260420T113033
DTSTART:20200926T203000
DTEND:20200926T203000
SUMMARY:Festes del Patró
LOCATION:
METHOD:PUBLISH
X-WR-CALNAME:ajuntament@santfost.cat
X-WR-TIMEZONE:Europe/Madrid
DESCRIPTION:
URI:https://www.santfost.cat/actualitat/agenda/6308-festes-del-patro.html
CLASS:PUBLIC
END:VEVENT
END:VCALENDAR
