BEGIN:VCALENDAR
VERSION:2.0
CALSCALE:GREGORIAN
PRODID:-//Diputació de Barcelona//DibaCMS//EN
BEGIN:VEVENT
UID:6312
DTSTAMP:20260420T024605
DTSTART:20201003T000000
DTEND:20201003T000000
SUMMARY:Bibliolab: Crea el teu propi curtmetratge en 3D. Stop Motion!

LOCATION:
METHOD:PUBLISH
X-WR-CALNAME:ajuntament@santfost.cat
X-WR-TIMEZONE:Europe/Madrid
DESCRIPTION:
URI:https://www.santfost.cat/actualitat/agenda/bibliolab-crea-el-teu-propi-curtmetratge-en-3d-stop-motion.html
CLASS:PUBLIC
END:VEVENT
END:VCALENDAR
