BEGIN:VCALENDAR
VERSION:2.0
CALSCALE:GREGORIAN
PRODID:-//Diputació de Barcelona//DibaCMS//EN
BEGIN:VEVENT
UID:6313
DTSTAMP:20260422T114647
DTSTART:20201004T180000
DTEND:20201004T180000
SUMMARY:Mostra de Teatre Amateur
LOCATION:
METHOD:PUBLISH
X-WR-CALNAME:ajuntament@santfost.cat
X-WR-TIMEZONE:Europe/Madrid
DESCRIPTION:
URI:https://www.santfost.cat/actualitat/agenda/6313-mostra-de-teatre-amateur.html
CLASS:PUBLIC
END:VEVENT
END:VCALENDAR
