BEGIN:VCALENDAR
VERSION:2.0
CALSCALE:GREGORIAN
PRODID:-//Diputació de Barcelona//DibaCMS//EN
BEGIN:VEVENT
UID:6314
DTSTAMP:20260420T101828
DTSTART:20201008T200000
DTEND:20201008T200000
SUMMARY:Presentació del llibre 'Tornarem a vèncer (i com ho farem)'
LOCATION:
METHOD:PUBLISH
X-WR-CALNAME:ajuntament@santfost.cat
X-WR-TIMEZONE:Europe/Madrid
DESCRIPTION:
URI:https://www.santfost.cat/actualitat/agenda/presentacio-del-llibre-tornarem-a-vencer-i-com-ho-farem.html
CLASS:PUBLIC
END:VEVENT
END:VCALENDAR
