BEGIN:VCALENDAR
VERSION:2.0
CALSCALE:GREGORIAN
PRODID:-//Diputació de Barcelona//DibaCMS//EN
BEGIN:VEVENT
UID:6316
DTSTAMP:20260420T130957
DTSTART:20201010T000000
DTEND:20201010T000000
SUMMARY:Bibliolab: Els colors que ens emocionen
LOCATION:
METHOD:PUBLISH
X-WR-CALNAME:ajuntament@santfost.cat
X-WR-TIMEZONE:Europe/Madrid
DESCRIPTION:
URI:https://www.santfost.cat/actualitat/agenda/bibliolab-els-colors-que-ens-emocionen.html
CLASS:PUBLIC
END:VEVENT
END:VCALENDAR
