BEGIN:VCALENDAR
VERSION:2.0
CALSCALE:GREGORIAN
PRODID:-//Diputació de Barcelona//DibaCMS//EN
BEGIN:VEVENT
UID:6317
DTSTAMP:20260420T014053
DTSTART:20201010T200000
DTEND:20201010T200000
SUMMARY:Dissabte 10 d'octubre: Conferència 'Del desànim a la depressió. Del nerviosisme als trastorns. Explicacions i tractaments'
LOCATION:
METHOD:PUBLISH
X-WR-CALNAME:ajuntament@santfost.cat
X-WR-TIMEZONE:Europe/Madrid
DESCRIPTION:
URI:https://www.santfost.cat/actualitat/agenda/dissabte-10-doctubre-conferencia-del-desanim-a-la-depressio-del-nerviosisme-als-trastorns-explicacions-i-tractaments.html
CLASS:PUBLIC
END:VEVENT
END:VCALENDAR
