BEGIN:VCALENDAR
VERSION:2.0
CALSCALE:GREGORIAN
PRODID:-//Diputació de Barcelona//DibaCMS//EN
BEGIN:VEVENT
UID:6324
DTSTAMP:20260420T103203
DTSTART:20201027T170000
DTEND:20201027T170000
SUMMARY:Taller de còmic infantil 'Geshtinanna: La deessa del vi'
LOCATION:
METHOD:PUBLISH
X-WR-CALNAME:ajuntament@santfost.cat
X-WR-TIMEZONE:Europe/Madrid
DESCRIPTION:
URI:https://www.santfost.cat/actualitat/agenda/taller-de-comic-infantil-geshtinanna-la-deessa-del-vi.html
CLASS:PUBLIC
END:VEVENT
END:VCALENDAR
