BEGIN:VCALENDAR
VERSION:2.0
CALSCALE:GREGORIAN
PRODID:-//Diputació de Barcelona//DibaCMS//EN
BEGIN:VEVENT
UID:6326
DTSTAMP:20260420T113134
DTSTART:20201029T000000
DTEND:20201029T000000
SUMMARY:Curs: com prevenir la transmissió del coronavirus en establiments minoristes d'alimentació i de restauració
LOCATION:
METHOD:PUBLISH
X-WR-CALNAME:ajuntament@santfost.cat
X-WR-TIMEZONE:Europe/Madrid
DESCRIPTION:
URI:https://www.santfost.cat/actualitat/agenda/6326-curs-com-prevenir-la-transmissio-del-coronavirus-en-establiments-minoristes-dalimentacio-i-de-restauracio.html
CLASS:PUBLIC
END:VEVENT
END:VCALENDAR
