BEGIN:VCALENDAR
VERSION:2.0
CALSCALE:GREGORIAN
PRODID:-//Diputació de Barcelona//DibaCMS//EN
BEGIN:VEVENT
UID:6327
DTSTAMP:20260420T042518
DTSTART:20201031T200000
DTEND:20201031T200000
SUMMARY:CANCEL·LADA Mostra de Teatre Amateur
LOCATION:
METHOD:PUBLISH
X-WR-CALNAME:ajuntament@santfost.cat
X-WR-TIMEZONE:Europe/Madrid
DESCRIPTION:
URI:https://www.santfost.cat/actualitat/agenda/cancellada-mostra-de-teatre-amateur.html
CLASS:PUBLIC
END:VEVENT
END:VCALENDAR
