BEGIN:VCALENDAR
VERSION:2.0
CALSCALE:GREGORIAN
PRODID:-//Diputació de Barcelona//DibaCMS//EN
BEGIN:VEVENT
UID:6328
DTSTAMP:20260420T084506
DTSTART:20201105T183000
DTEND:20201105T183000
SUMMARY:VIRTUAL Club de lectura amb la presència de l'escriptor Albert Vilaró
LOCATION:
METHOD:PUBLISH
X-WR-CALNAME:ajuntament@santfost.cat
X-WR-TIMEZONE:Europe/Madrid
DESCRIPTION:
URI:https://www.santfost.cat/actualitat/agenda/virtual-club-de-lectura-amb-la-presencia-de-lescriptor-albert-vilaro.html
CLASS:PUBLIC
END:VEVENT
END:VCALENDAR
