BEGIN:VCALENDAR
VERSION:2.0
CALSCALE:GREGORIAN
PRODID:-//Diputació de Barcelona//DibaCMS//EN
BEGIN:VEVENT
UID:6329
DTSTAMP:20260423T005829
DTSTART:20201107T000000
DTEND:20201107T000000
SUMMARY: Bibliolab: Escriptura de records
LOCATION:
METHOD:PUBLISH
X-WR-CALNAME:ajuntament@santfost.cat
X-WR-TIMEZONE:Europe/Madrid
DESCRIPTION:
URI:https://www.santfost.cat/actualitat/agenda/-bibliolab-escriptura-de-records.html
CLASS:PUBLIC
END:VEVENT
END:VCALENDAR
