BEGIN:VCALENDAR
VERSION:2.0
CALSCALE:GREGORIAN
PRODID:-//Diputació de Barcelona//DibaCMS//EN
BEGIN:VEVENT
UID:6330
DTSTAMP:20260422T153354
DTSTART:20201114T000000
DTEND:20201114T000000
SUMMARY:Bibliolab: Makecode Arkade
LOCATION:
METHOD:PUBLISH
X-WR-CALNAME:ajuntament@santfost.cat
X-WR-TIMEZONE:Europe/Madrid
DESCRIPTION:
URI:https://www.santfost.cat/actualitat/agenda/bibliolab-makecode-arkade.html
CLASS:PUBLIC
END:VEVENT
END:VCALENDAR
