BEGIN:VCALENDAR
VERSION:2.0
CALSCALE:GREGORIAN
PRODID:-//Diputació de Barcelona//DibaCMS//EN
BEGIN:VEVENT
UID:6332
DTSTAMP:20260420T025559
DTSTART:20201119T000000
DTEND:20201119T000000
SUMMARY:Curs 'Digitalitza't'
LOCATION:
METHOD:PUBLISH
X-WR-CALNAME:ajuntament@santfost.cat
X-WR-TIMEZONE:Europe/Madrid
DESCRIPTION:
URI:https://www.santfost.cat/actualitat/agenda/6332-curs-digitalitzat.html
CLASS:PUBLIC
END:VEVENT
END:VCALENDAR
