BEGIN:VCALENDAR
VERSION:2.0
CALSCALE:GREGORIAN
PRODID:-//Diputació de Barcelona//DibaCMS//EN
BEGIN:VEVENT
UID:6335
DTSTAMP:20260422T153544
DTSTART:20201128T000000
DTEND:20201128T000000
SUMMARY:Bibliolab: Scratch
LOCATION:
METHOD:PUBLISH
X-WR-CALNAME:ajuntament@santfost.cat
X-WR-TIMEZONE:Europe/Madrid
DESCRIPTION:
URI:https://www.santfost.cat/actualitat/agenda/bibliolab-scratch.html
CLASS:PUBLIC
END:VEVENT
END:VCALENDAR
