BEGIN:VCALENDAR
VERSION:2.0
CALSCALE:GREGORIAN
PRODID:-//Diputació de Barcelona//DibaCMS//EN
BEGIN:VEVENT
UID:6336
DTSTAMP:20260422T195714
DTSTART:20201203T183000
DTEND:20201203T183000
SUMMARY:Club de lectura virtual
LOCATION:
METHOD:PUBLISH
X-WR-CALNAME:ajuntament@santfost.cat
X-WR-TIMEZONE:Europe/Madrid
DESCRIPTION:
URI:https://www.santfost.cat/actualitat/agenda/club-de-lectura-virtual.html
CLASS:PUBLIC
END:VEVENT
END:VCALENDAR
