BEGIN:VCALENDAR
VERSION:2.0
CALSCALE:GREGORIAN
PRODID:-//Diputació de Barcelona//DibaCMS//EN
BEGIN:VEVENT
UID:6337
DTSTAMP:20260420T071957
DTSTART:20201215T000000
DTEND:20201215T000000
SUMMARY:Bibliolab: Iniciació i programació amb Arduino
LOCATION:
METHOD:PUBLISH
X-WR-CALNAME:ajuntament@santfost.cat
X-WR-TIMEZONE:Europe/Madrid
DESCRIPTION:
URI:https://www.santfost.cat/actualitat/agenda/bibliolab-iniciacio-i-programacio-amb-arduino.html
CLASS:PUBLIC
END:VEVENT
END:VCALENDAR
