BEGIN:VCALENDAR
VERSION:2.0
CALSCALE:GREGORIAN
PRODID:-//Diputació de Barcelona//DibaCMS//EN
BEGIN:VEVENT
UID:6338
DTSTAMP:20260422T211833
DTSTART:20201218T183000
DTEND:20201218T183000
SUMMARY:Xerrada Marató TV3: Covid-19
LOCATION:
METHOD:PUBLISH
X-WR-CALNAME:ajuntament@santfost.cat
X-WR-TIMEZONE:Europe/Madrid
DESCRIPTION:
URI:https://www.santfost.cat/actualitat/agenda/xerrada-marato-tv3-covid-19.html
CLASS:PUBLIC
END:VEVENT
END:VCALENDAR
