BEGIN:VCALENDAR
VERSION:2.0
CALSCALE:GREGORIAN
PRODID:-//Diputació de Barcelona//DibaCMS//EN
BEGIN:VEVENT
UID:6467
DTSTAMP:20260420T012233
DTSTART:20210204T183000
DTEND:20210204T210000
SUMMARY:Club de lectura
LOCATION:Virtual 
METHOD:PUBLISH
X-WR-CALNAME:ajuntament@santfost.cat
X-WR-TIMEZONE:Europe/Madrid
DESCRIPTION:Club de lectura: El pes de la neu, de Christian Guay-Poliquin
 

URI:https://www.santfost.cat/actualitat/agenda/6467-club-de-lectura.html
CLASS:PUBLIC
END:VEVENT
END:VCALENDAR
