BEGIN:VCALENDAR
VERSION:2.0
CALSCALE:GREGORIAN
PRODID:-//Diputació de Barcelona//DibaCMS//EN
BEGIN:VEVENT
UID:6501
DTSTAMP:20260420T001220
DTSTART:20210304T183000
DTEND:20210304T210000
SUMMARY:Club de lectura: La ridícula idea de no volver a verte, de Rosa Montero
LOCATION:Activitat virtual 
METHOD:PUBLISH
X-WR-CALNAME:ajuntament@santfost.cat
X-WR-TIMEZONE:Europe/Madrid
DESCRIPTION:Nova sessió virtual del club de lectura, aquesta vegada amb el llibre 'La ridícula idea no volver a verte' com a protagonista, de Rosa Montero.

Adreçada a adults. Inscripcions a la biblioteca

URI:https://www.santfost.cat/actualitat/agenda/club-de-lectura-la-ridicula-idea-de-no-volver-a-verte-de-rosa-montero.html
CLASS:PUBLIC
END:VEVENT
END:VCALENDAR
