BEGIN:VCALENDAR
VERSION:2.0
CALSCALE:GREGORIAN
PRODID:-//Diputació de Barcelona//DibaCMS//EN
BEGIN:VEVENT
UID:6502
DTSTAMP:20260420T101752
DTSTART:20210323T000000
DTEND:20210323T000000
SUMMARY:Teatre: Dionís Nu
LOCATION: Edifici L'Ateneu  Plaça de la Vila, s/n 08105 Sant Fost de Campsentelles
METHOD:PUBLISH
X-WR-CALNAME:ajuntament@santfost.cat
X-WR-TIMEZONE:Europe/Madrid
DESCRIPTION:Peça teatral a càrrec de l'actor Pep Muñoz, que ens aproparà a la vida de Dionís, el déu mitològic del vi.

Adreçat a adults. Inscripcions a la biblioteca. Presencial a la Biblioteca Biblio@teneu, amb aforament limitat i cita prèvia. 

Activitat inclosa dins el projecte Biblioteques amb DO.

URI:https://www.santfost.cat/actualitat/agenda/teatre-dionis-nu.html
CLASS:PUBLIC
END:VEVENT
END:VCALENDAR
